BEGIN:VCALENDAR
VERSION:2.0
PRODID:-//De Peuk - ECPv6.15.17.1//NONSGML v1.0//EN
CALSCALE:GREGORIAN
METHOD:PUBLISH
X-ORIGINAL-URL:https://www.depeuk.nl/home
X-WR-CALDESC:Evenementen voor De Peuk
REFRESH-INTERVAL;VALUE=DURATION:PT1H
X-Robots-Tag:noindex
X-PUBLISHED-TTL:PT1H
BEGIN:VTIMEZONE
TZID:Europe/Paris
BEGIN:DAYLIGHT
TZOFFSETFROM:+0100
TZOFFSETTO:+0200
TZNAME:CEST
DTSTART:20250330T010000
END:DAYLIGHT
BEGIN:STANDARD
TZOFFSETFROM:+0200
TZOFFSETTO:+0100
TZNAME:CET
DTSTART:20251026T010000
END:STANDARD
BEGIN:DAYLIGHT
TZOFFSETFROM:+0100
TZOFFSETTO:+0200
TZNAME:CEST
DTSTART:20260329T010000
END:DAYLIGHT
BEGIN:STANDARD
TZOFFSETFROM:+0200
TZOFFSETTO:+0100
TZNAME:CET
DTSTART:20261025T010000
END:STANDARD
BEGIN:DAYLIGHT
TZOFFSETFROM:+0100
TZOFFSETTO:+0200
TZNAME:CEST
DTSTART:20270328T010000
END:DAYLIGHT
BEGIN:STANDARD
TZOFFSETFROM:+0200
TZOFFSETTO:+0100
TZNAME:CET
DTSTART:20271031T010000
END:STANDARD
END:VTIMEZONE
BEGIN:VEVENT
DTSTART;TZID=Europe/Paris:20260327T193000
DTEND;TZID=Europe/Paris:20260328T010000
DTSTAMP:20260420T102055
CREATED:20260113T193817Z
LAST-MODIFIED:20260325T145825Z
UID:6227-1774639800-1774659600@www.depeuk.nl
SUMMARY:27 maart | Swingo | 19:30 uur
DESCRIPTION:Meld je aan door een berichtje te sturen naar: 06-14784081
URL:https://www.depeuk.nl/home/event/27-maart-swingo-1930-uur/
LOCATION:De Peuk\, Rekreatiepad 3\, Valkenburg\, Zuid Holland\, 2235CE\, Nederland
ATTACH;FMTTYPE=image/jpeg:https://www.depeuk.nl/wp-content/uploads/2026/01/582971776_17924274756186709_7085664687512710219_n.jpg
END:VEVENT
BEGIN:VEVENT
DTSTART;VALUE=DATE:20260328
DTEND;VALUE=DATE:20260329
DTSTAMP:20260420T102055
CREATED:20260320T092941Z
LAST-MODIFIED:20260325T150000Z
UID:6361-1774656000-1774742399@www.depeuk.nl
SUMMARY:Verhuurd | Kleine Zaal
DESCRIPTION:
URL:https://www.depeuk.nl/home/event/verhuurd-kleine-zaal-19/
CATEGORIES:Verhuurd
ATTACH;FMTTYPE=image/jpeg:https://www.depeuk.nl/wp-content/uploads/2025/10/bar-kleine-zaal-2-scaled.jpg
END:VEVENT
END:VCALENDAR