BEGIN:VCALENDAR
VERSION:2.0
PRODID:-//De Peuk - ECPv6.15.17.1//NONSGML v1.0//EN
CALSCALE:GREGORIAN
METHOD:PUBLISH
X-WR-CALNAME:De Peuk
X-ORIGINAL-URL:https://www.depeuk.nl/home
X-WR-CALDESC:Evenementen voor De Peuk
REFRESH-INTERVAL;VALUE=DURATION:PT1H
X-Robots-Tag:noindex
X-PUBLISHED-TTL:PT1H
BEGIN:VTIMEZONE
TZID:Europe/Paris
BEGIN:DAYLIGHT
TZOFFSETFROM:+0100
TZOFFSETTO:+0200
TZNAME:CEST
DTSTART:20250330T010000
END:DAYLIGHT
BEGIN:STANDARD
TZOFFSETFROM:+0200
TZOFFSETTO:+0100
TZNAME:CET
DTSTART:20251026T010000
END:STANDARD
BEGIN:DAYLIGHT
TZOFFSETFROM:+0100
TZOFFSETTO:+0200
TZNAME:CEST
DTSTART:20260329T010000
END:DAYLIGHT
BEGIN:STANDARD
TZOFFSETFROM:+0200
TZOFFSETTO:+0100
TZNAME:CET
DTSTART:20261025T010000
END:STANDARD
BEGIN:DAYLIGHT
TZOFFSETFROM:+0100
TZOFFSETTO:+0200
TZNAME:CEST
DTSTART:20270328T010000
END:DAYLIGHT
BEGIN:STANDARD
TZOFFSETFROM:+0200
TZOFFSETTO:+0100
TZNAME:CET
DTSTART:20271031T010000
END:STANDARD
END:VTIMEZONE
BEGIN:VEVENT
DTSTART;VALUE=DATE:20260612
DTEND;VALUE=DATE:20260615
DTSTAMP:20260421T005628
CREATED:20260413T165122Z
LAST-MODIFIED:20260413T165122Z
UID:6510-1781222400-1781481599@www.depeuk.nl
SUMMARY:Zalen niet te huur!
DESCRIPTION:
URL:https://www.depeuk.nl/home/event/zalen-niet-te-huur-9/
CATEGORIES:Niet te huur
END:VEVENT
BEGIN:VEVENT
DTSTART;VALUE=DATE:20260626
DTEND;VALUE=DATE:20260629
DTSTAMP:20260421T005628
CREATED:20260413T165639Z
LAST-MODIFIED:20260413T165639Z
UID:6512-1782432000-1782691199@www.depeuk.nl
SUMMARY:Zalen niet te huur!
DESCRIPTION:
URL:https://www.depeuk.nl/home/event/zalen-niet-te-huur-10/
CATEGORIES:Niet te huur
END:VEVENT
BEGIN:VEVENT
DTSTART;VALUE=DATE:20260911
DTEND;VALUE=DATE:20260914
DTSTAMP:20260421T005628
CREATED:20260413T145544Z
LAST-MODIFIED:20260413T145909Z
UID:6496-1789084800-1789343999@www.depeuk.nl
SUMMARY:Zalen niet te huur!
DESCRIPTION:
URL:https://www.depeuk.nl/home/event/zalen-niet-te-huur-2/
CATEGORIES:Niet te huur
END:VEVENT
BEGIN:VEVENT
DTSTART;VALUE=DATE:20260925
DTEND;VALUE=DATE:20260928
DTSTAMP:20260421T005628
CREATED:20260413T145753Z
LAST-MODIFIED:20260413T145942Z
UID:6498-1790294400-1790553599@www.depeuk.nl
SUMMARY:Zalen niet te huur!
DESCRIPTION:
URL:https://www.depeuk.nl/home/event/zalen-niet-te-huur-3/
CATEGORIES:Niet te huur
END:VEVENT
BEGIN:VEVENT
DTSTART;VALUE=DATE:20261009
DTEND;VALUE=DATE:20261012
DTSTAMP:20260421T005628
CREATED:20260413T150147Z
LAST-MODIFIED:20260413T150147Z
UID:6500-1791504000-1791763199@www.depeuk.nl
SUMMARY:Zalen niet te huur!
DESCRIPTION:
URL:https://www.depeuk.nl/home/event/zalen-niet-te-huur-4/
CATEGORIES:Niet te huur
END:VEVENT
BEGIN:VEVENT
DTSTART;VALUE=DATE:20261023
DTEND;VALUE=DATE:20261026
DTSTAMP:20260421T005628
CREATED:20260413T150216Z
LAST-MODIFIED:20260413T150216Z
UID:6502-1792713600-1792972799@www.depeuk.nl
SUMMARY:Zalen niet te huur!
DESCRIPTION:
URL:https://www.depeuk.nl/home/event/zalen-niet-te-huur-5/
CATEGORIES:Niet te huur
END:VEVENT
BEGIN:VEVENT
DTSTART;VALUE=DATE:20261107
DTEND;VALUE=DATE:20261109
DTSTAMP:20260421T005628
CREATED:20260413T150357Z
LAST-MODIFIED:20260413T150357Z
UID:6504-1794009600-1794182399@www.depeuk.nl
SUMMARY:Zalen niet te huur!
DESCRIPTION:
URL:https://www.depeuk.nl/home/event/zalen-niet-te-huur-6/
CATEGORIES:Niet te huur
END:VEVENT
BEGIN:VEVENT
DTSTART;VALUE=DATE:20261120
DTEND;VALUE=DATE:20261123
DTSTAMP:20260421T005628
CREATED:20260413T150439Z
LAST-MODIFIED:20260413T150439Z
UID:6506-1795132800-1795391999@www.depeuk.nl
SUMMARY:Zalen niet te huur!
DESCRIPTION:
URL:https://www.depeuk.nl/home/event/zalen-niet-te-huur-7/
CATEGORIES:Niet te huur
END:VEVENT
BEGIN:VEVENT
DTSTART;VALUE=DATE:20261204
DTEND;VALUE=DATE:20261207
DTSTAMP:20260421T005628
CREATED:20260413T150610Z
LAST-MODIFIED:20260413T150610Z
UID:6508-1796342400-1796601599@www.depeuk.nl
SUMMARY:Zalen niet te huur!
DESCRIPTION:
URL:https://www.depeuk.nl/home/event/zalen-niet-te-huur-8/
CATEGORIES:Niet te huur
END:VEVENT
END:VCALENDAR