BEGIN:VCALENDAR
VERSION:2.0
PRODID:-//De Peuk - ECPv6.15.17.1//NONSGML v1.0//EN
CALSCALE:GREGORIAN
METHOD:PUBLISH
X-WR-CALNAME:De Peuk
X-ORIGINAL-URL:https://www.depeuk.nl/home
X-WR-CALDESC:Evenementen voor De Peuk
REFRESH-INTERVAL;VALUE=DURATION:PT1H
X-Robots-Tag:noindex
X-PUBLISHED-TTL:PT1H
BEGIN:VTIMEZONE
TZID:Europe/Paris
BEGIN:DAYLIGHT
TZOFFSETFROM:+0100
TZOFFSETTO:+0200
TZNAME:CEST
DTSTART:20240331T010000
END:DAYLIGHT
BEGIN:STANDARD
TZOFFSETFROM:+0200
TZOFFSETTO:+0100
TZNAME:CET
DTSTART:20241027T010000
END:STANDARD
BEGIN:DAYLIGHT
TZOFFSETFROM:+0100
TZOFFSETTO:+0200
TZNAME:CEST
DTSTART:20250330T010000
END:DAYLIGHT
BEGIN:STANDARD
TZOFFSETFROM:+0200
TZOFFSETTO:+0100
TZNAME:CET
DTSTART:20251026T010000
END:STANDARD
BEGIN:DAYLIGHT
TZOFFSETFROM:+0100
TZOFFSETTO:+0200
TZNAME:CEST
DTSTART:20260329T010000
END:DAYLIGHT
BEGIN:STANDARD
TZOFFSETFROM:+0200
TZOFFSETTO:+0100
TZNAME:CET
DTSTART:20261025T010000
END:STANDARD
BEGIN:DAYLIGHT
TZOFFSETFROM:+0100
TZOFFSETTO:+0200
TZNAME:CEST
DTSTART:20270328T010000
END:DAYLIGHT
BEGIN:STANDARD
TZOFFSETFROM:+0200
TZOFFSETTO:+0100
TZNAME:CET
DTSTART:20271031T010000
END:STANDARD
END:VTIMEZONE
BEGIN:VEVENT
DTSTART;VALUE=DATE:20260314
DTEND;VALUE=DATE:20260315
DTSTAMP:20260420T221401
CREATED:20260305T191855Z
LAST-MODIFIED:20260325T150035Z
UID:6346-1773446400-1773532799@www.depeuk.nl
SUMMARY:Verhuurd | Kleine Zaal
DESCRIPTION:
URL:https://www.depeuk.nl/home/event/verhuurd-kleine-zaal-4/
CATEGORIES:Verhuurd
END:VEVENT
BEGIN:VEVENT
DTSTART;VALUE=DATE:20260307
DTEND;VALUE=DATE:20260308
DTSTAMP:20260420T221401
CREATED:20260113T192746Z
LAST-MODIFIED:20260220T132735Z
UID:6224-1772841600-1772927999@www.depeuk.nl
SUMMARY:Verhuurd | Kleine Zaal
DESCRIPTION:
URL:https://www.depeuk.nl/home/event/verhuurd-kleine-zaal-12/
CATEGORIES:Verhuurd
END:VEVENT
BEGIN:VEVENT
DTSTART;VALUE=DATE:20260228
DTEND;VALUE=DATE:20260301
DTSTAMP:20260420T221401
CREATED:20251025T180214Z
LAST-MODIFIED:20260220T132709Z
UID:5960-1772236800-1772323199@www.depeuk.nl
SUMMARY:Verhuurd | Kleine Zaal
DESCRIPTION:
URL:https://www.depeuk.nl/home/event/verhuurd-onder-voorbehoud/
CATEGORIES:Verhuurd
END:VEVENT
BEGIN:VEVENT
DTSTART;TZID=Europe/Paris:20260227T160000
DTEND;TZID=Europe/Paris:20260227T200000
DTSTAMP:20260420T221401
CREATED:20260119T184854Z
LAST-MODIFIED:20260220T132555Z
UID:6249-1772208000-1772222400@www.depeuk.nl
SUMMARY:50+ pub
DESCRIPTION:
URL:https://www.depeuk.nl/home/event/50-pub-kleine-zaal-ovb/
LOCATION:De Peuk\, Rekreatiepad 3\, Valkenburg\, Zuid Holland\, 2235CE\, Nederland
END:VEVENT
BEGIN:VEVENT
DTSTART;TZID=Europe/Paris:20260221T200000
DTEND;TZID=Europe/Paris:20260222T010000
DTSTAMP:20260420T221401
CREATED:20260113T194830Z
LAST-MODIFIED:20260220T140935Z
UID:6231-1771704000-1771722000@www.depeuk.nl
SUMMARY:21 februari | Disco Dance Classics
DESCRIPTION:Na het succes van de 70s Party gaan we nóg een stap verder \n\n\nEen avond vol legendarische disco classics\, met The B Machine live on stage en DJ Arie van Rooyen achter de draaitafels.\n\n\n Mis ’t niet – tickets online voor maar €10\,-\n\nScore hier je tickets: https://store.ticketing.cm.com/DiscoDanceClassics2026
URL:https://www.depeuk.nl/home/event/21-februari-disco-dance-classics/
LOCATION:De Peuk\, Rekreatiepad 3\, Valkenburg\, Zuid Holland\, 2235CE\, Nederland
CATEGORIES:Muziekevenement
ORGANIZER;CN="De Peuk":MAILTO:secretariaat@depeuk.nl
END:VEVENT
BEGIN:VEVENT
DTSTART;VALUE=DATE:20260215
DTEND;VALUE=DATE:20260216
DTSTAMP:20260420T221401
CREATED:20260119T180614Z
LAST-MODIFIED:20260119T180614Z
UID:6245-1771113600-1771199999@www.depeuk.nl
SUMMARY:Verhuurd | Kleine Zaal
DESCRIPTION:
URL:https://www.depeuk.nl/home/event/verhuurd-kleine-zaal-13/
END:VEVENT
BEGIN:VEVENT
DTSTART;VALUE=DATE:20260214
DTEND;VALUE=DATE:20260215
DTSTAMP:20260420T221401
CREATED:20251124T162750Z
LAST-MODIFIED:20260210T191441Z
UID:6151-1771027200-1771113599@www.depeuk.nl
SUMMARY:Verhuurd | kleine zaal
DESCRIPTION:
URL:https://www.depeuk.nl/home/event/onder-voorbehoud-kleine-zaal-3/
END:VEVENT
BEGIN:VEVENT
DTSTART;VALUE=DATE:20260213
DTEND;VALUE=DATE:20260214
DTSTAMP:20260420T221401
CREATED:20251111T182959Z
LAST-MODIFIED:20251212T174429Z
UID:6084-1770940800-1771027199@www.depeuk.nl
SUMMARY:Verhuurd | grote zaal
DESCRIPTION:
URL:https://www.depeuk.nl/home/event/verhuurd-kleine-zaal-8/
CATEGORIES:Verhuurd
END:VEVENT
BEGIN:VEVENT
DTSTART;VALUE=DATE:20260207
DTEND;VALUE=DATE:20260208
DTSTAMP:20260420T221401
CREATED:20251110T182854Z
LAST-MODIFIED:20251110T182854Z
UID:6058-1770422400-1770508799@www.depeuk.nl
SUMMARY:Verhuurd\, kleine zaal
DESCRIPTION:
URL:https://www.depeuk.nl/home/event/verhuurd-kleine-zaal-7/
END:VEVENT
BEGIN:VEVENT
DTSTART;VALUE=DATE:20260206
DTEND;VALUE=DATE:20260207
DTSTAMP:20260420T221401
CREATED:20260106T121424Z
LAST-MODIFIED:20260106T121424Z
UID:6215-1770336000-1770422399@www.depeuk.nl
SUMMARY:Verhuurd | Kleine zaal
DESCRIPTION:
URL:https://www.depeuk.nl/home/event/verhuurd-kleine-zaal-11/
END:VEVENT
BEGIN:VEVENT
DTSTART;VALUE=DATE:20260131
DTEND;VALUE=DATE:20260201
DTSTAMP:20260420T221401
CREATED:20251124T155330Z
LAST-MODIFIED:20251124T155330Z
UID:6132-1769817600-1769903999@www.depeuk.nl
SUMMARY:Verhuurd\, kl zaal
DESCRIPTION:
URL:https://www.depeuk.nl/home/event/verhuurd-kl-zaal-2/
END:VEVENT
BEGIN:VEVENT
DTSTART;VALUE=DATE:20260125
DTEND;VALUE=DATE:20260127
DTSTAMP:20260420T221401
CREATED:20251025T175812Z
LAST-MODIFIED:20251212T172148Z
UID:5954-1769299200-1769471999@www.depeuk.nl
SUMMARY:Verhuurd | kleine zaal
DESCRIPTION:
URL:https://www.depeuk.nl/home/event/optie-kleine-zaal/
END:VEVENT
BEGIN:VEVENT
DTSTART;VALUE=DATE:20260124
DTEND;VALUE=DATE:20260125
DTSTAMP:20260420T221401
CREATED:20251110T203744Z
LAST-MODIFIED:20251110T203744Z
UID:6075-1769212800-1769299199@www.depeuk.nl
SUMMARY:Verhuurd\, grote zaal
DESCRIPTION:
URL:https://www.depeuk.nl/home/event/verhuurd-grote-zaal-2/
CATEGORIES:Verhuurd
END:VEVENT
BEGIN:VEVENT
DTSTART;VALUE=DATE:20260123
DTEND;VALUE=DATE:20260124
DTSTAMP:20260420T221401
CREATED:20251025T175446Z
LAST-MODIFIED:20251212T172423Z
UID:5950-1769126400-1769212799@www.depeuk.nl
SUMMARY:Verhuurd | kleine zaal
DESCRIPTION:
URL:https://www.depeuk.nl/home/event/verhuurd-kleine-zaal-2/
END:VEVENT
BEGIN:VEVENT
DTSTART;TZID=Europe/Paris:20260120T190000
DTEND;TZID=Europe/Paris:20260120T220000
DTSTAMP:20260420T221401
CREATED:20251025T175549Z
LAST-MODIFIED:20251025T175549Z
UID:5952-1768935600-1768946400@www.depeuk.nl
SUMMARY:Vergadering Wijkraad
DESCRIPTION:
URL:https://www.depeuk.nl/home/event/vergadering-wijkraad/
END:VEVENT
BEGIN:VEVENT
DTSTART;VALUE=DATE:20260117
DTEND;VALUE=DATE:20260118
DTSTAMP:20260420T221401
CREATED:20251025T175400Z
LAST-MODIFIED:20251025T175400Z
UID:5948-1768608000-1768694399@www.depeuk.nl
SUMMARY:Verhuurd\, kleine zaal
DESCRIPTION:
URL:https://www.depeuk.nl/home/event/verhuurd-kleine-zaal/
END:VEVENT
BEGIN:VEVENT
DTSTART;VALUE=DATE:20260116
DTEND;VALUE=DATE:20260117
DTSTAMP:20260420T221401
CREATED:20251212T173516Z
LAST-MODIFIED:20251212T173516Z
UID:6194-1768521600-1768607999@www.depeuk.nl
SUMMARY:Verhuurd | kleine zaal
DESCRIPTION:
URL:https://www.depeuk.nl/home/event/verhuurd-kleine-zaal-10/
END:VEVENT
BEGIN:VEVENT
DTSTART;TZID=Europe/Paris:20260110T160000
DTEND;TZID=Europe/Paris:20260110T190000
DTSTAMP:20260420T221401
CREATED:20251111T184513Z
LAST-MODIFIED:20251212T172635Z
UID:6096-1768060800-1768071600@www.depeuk.nl
SUMMARY:Veteranen nieuwjaarsreceptie
DESCRIPTION:
URL:https://www.depeuk.nl/home/event/veteranen-nieuwjaarsreceptie/
LOCATION:De Peuk\, Rekreatiepad 3\, Valkenburg\, Zuid Holland\, 2235CE\, Nederland
END:VEVENT
BEGIN:VEVENT
DTSTART;VALUE=DATE:20260110
DTEND;VALUE=DATE:20260111
DTSTAMP:20260420T221401
CREATED:20251212T172534Z
LAST-MODIFIED:20251212T172548Z
UID:6190-1768003200-1768089599@www.depeuk.nl
SUMMARY:Verhuurd | kleine zaal
DESCRIPTION:
URL:https://www.depeuk.nl/home/event/verhuurd-kleine-zaal-5/
END:VEVENT
BEGIN:VEVENT
DTSTART;VALUE=DATE:20260109
DTEND;VALUE=DATE:20260110
DTSTAMP:20260420T221401
CREATED:20251229T144854Z
LAST-MODIFIED:20251229T144854Z
UID:6209-1767916800-1768003199@www.depeuk.nl
SUMMARY:Verhuurd
DESCRIPTION:
URL:https://www.depeuk.nl/home/event/verhuurd/
END:VEVENT
BEGIN:VEVENT
DTSTART;VALUE=DATE:20251222
DTEND;VALUE=DATE:20260105
DTSTAMP:20260420T221401
CREATED:20251016T134137Z
LAST-MODIFIED:20251202T121721Z
UID:5853-1766361600-1767571199@www.depeuk.nl
SUMMARY:KERSTVAKANTIE DE PEUK | GESLOTEN | zalen niet te huur
DESCRIPTION:
URL:https://www.depeuk.nl/home/event/kerstvakantie-gesloten-2/
END:VEVENT
BEGIN:VEVENT
DTSTART;VALUE=DATE:20251220
DTEND;VALUE=DATE:20260111
DTSTAMP:20260420T221401
CREATED:20251202T121850Z
LAST-MODIFIED:20251202T121911Z
UID:6162-1766188800-1768089599@www.depeuk.nl
SUMMARY:KERSTVAKANTIE VOC | GESLOTEN
DESCRIPTION:
URL:https://www.depeuk.nl/home/event/kerstvakantie-voc-gesloten/
END:VEVENT
BEGIN:VEVENT
DTSTART;TZID=Europe/Paris:20251219T170000
DTEND;TZID=Europe/Paris:20251219T230000
DTSTAMP:20260420T221401
CREATED:20251111T184340Z
LAST-MODIFIED:20251202T121527Z
UID:6094-1766163600-1766185200@www.depeuk.nl
SUMMARY:Veteranen kerstborrel | 20:00 uur | zalen niet te huur
DESCRIPTION:
URL:https://www.depeuk.nl/home/event/veteranen-kerstdiner/
LOCATION:De Peuk\, Rekreatiepad 3\, Valkenburg\, Zuid Holland\, 2235CE\, Nederland
END:VEVENT
BEGIN:VEVENT
DTSTART;TZID=Europe/Paris:20251213T200000
DTEND;TZID=Europe/Paris:20251213T233000
DTSTAMP:20260420T221401
CREATED:20250422T171244Z
LAST-MODIFIED:20251202T123912Z
UID:5695-1765656000-1765668600@www.depeuk.nl
SUMMARY:Evenement Kerstbingo Oranjevereniging Wilhelmina Valkenburg
DESCRIPTION:
URL:https://www.depeuk.nl/home/event/kerstbingo/
LOCATION:De Peuk\, Rekreatiepad 3\, Valkenburg\, Zuid Holland\, 2235CE\, Nederland
ORGANIZER;CN="Oranjevereniging Wilhelmina Valkenburg":MAILTO:info@ov-wilhelmina-valkenburg.nl
END:VEVENT
BEGIN:VEVENT
DTSTART;VALUE=DATE:20251211
DTEND;VALUE=DATE:20251212
DTSTAMP:20260420T221401
CREATED:20251110T213059Z
LAST-MODIFIED:20251110T213059Z
UID:6080-1765411200-1765497599@www.depeuk.nl
SUMMARY:Verhuurd | grote zaal
DESCRIPTION:
URL:https://www.depeuk.nl/home/event/verhuurd-grote-zaal-4/
LOCATION:De Peuk\, Rekreatiepad 3\, Valkenburg\, Zuid Holland\, 2235CE\, Nederland
END:VEVENT
BEGIN:VEVENT
DTSTART;VALUE=DATE:20251129
DTEND;VALUE=DATE:20251130
DTSTAMP:20260420T221401
CREATED:20250918T113033Z
LAST-MODIFIED:20251124T161104Z
UID:5765-1764374400-1764460799@www.depeuk.nl
SUMMARY:Evenement House of Rock
DESCRIPTION:Tijd: 20:30 tot 01:00 uur! \nKnallende optredens van AWSM\, Refill\, Project X & The Lonesome Lads! \nVoorverkoop tickets start: zaterdag 27 september om 12:00 uur. \nDe tickets zijn verkrijgbaar bij Hoekstra Wheels in Valkenburg en Tankstation De Jong in Katwijk.
URL:https://www.depeuk.nl/home/event/house-of-rock/
LOCATION:De Peuk\, Rekreatiepad 3\, Valkenburg\, Zuid Holland\, 2235CE\, Nederland
END:VEVENT
BEGIN:VEVENT
DTSTART;VALUE=DATE:20251128
DTEND;VALUE=DATE:20251129
DTSTAMP:20260420T221401
CREATED:20251106T203604Z
LAST-MODIFIED:20251106T203604Z
UID:6046-1764288000-1764374399@www.depeuk.nl
SUMMARY:Verhuurd | kleine zaal
DESCRIPTION:
URL:https://www.depeuk.nl/home/event/verhuurd-kleine-zaal-6/
END:VEVENT
BEGIN:VEVENT
DTSTART;VALUE=DATE:20251125
DTEND;VALUE=DATE:20251126
DTSTAMP:20260420T221401
CREATED:20251110T212903Z
LAST-MODIFIED:20251110T212903Z
UID:6077-1764028800-1764115199@www.depeuk.nl
SUMMARY:Verhuurd\, grote zaal
DESCRIPTION:
URL:https://www.depeuk.nl/home/event/verhuurd-grote-zaal-3/
LOCATION:De Peuk\, Rekreatiepad 3\, Valkenburg\, Zuid Holland\, 2235CE\, Nederland
END:VEVENT
BEGIN:VEVENT
DTSTART;VALUE=DATE:20251122
DTEND;VALUE=DATE:20251123
DTSTAMP:20260420T221401
CREATED:20250408T122344Z
LAST-MODIFIED:20251016T140950Z
UID:5561-1763769600-1763855999@www.depeuk.nl
SUMMARY:Feestboek The Party 2.0
DESCRIPTION:Tijd: 20:00 tot 01:00 uur \nDe allereerste editie van Feestboek The Party was een knaller! \n\n\nDe sfeer was magisch\, de energie was ongekend en jullie waren fantastisch. Dank aan iedereen die erbij was en deze avond onvergetelijk maakte.\n\nDe kaartverkoop voor de 2de editie is nu gestart!\nWees er snel bij\, want de vorige editie was binnen een week uitverkocht.\n\n\n\nVergeet ons niet te volgen op Instragram @feestboek_theparty voor de laatste info.\n\n\n\n\nTeam Feestboek The Party
URL:https://www.depeuk.nl/home/event/feestboek-the-party-2-0/
LOCATION:De Peuk\, Rekreatiepad 3\, Valkenburg\, Zuid Holland\, 2235CE\, Nederland
CATEGORIES:Muziekevenement
END:VEVENT
BEGIN:VEVENT
DTSTART;VALUE=DATE:20251115
DTEND;VALUE=DATE:20251116
DTSTAMP:20260420T221401
CREATED:20251016T133642Z
LAST-MODIFIED:20251016T133642Z
UID:5849-1763164800-1763251199@www.depeuk.nl
SUMMARY:Verhuurd gr zaal
DESCRIPTION:
URL:https://www.depeuk.nl/home/event/verhuurd-gr-zaal-2/
END:VEVENT
END:VCALENDAR