BEGIN:VCALENDAR
VERSION:2.0
PRODID:-//De Peuk - ECPv6.15.17.1//NONSGML v1.0//EN
CALSCALE:GREGORIAN
METHOD:PUBLISH
X-ORIGINAL-URL:https://www.depeuk.nl/home
X-WR-CALDESC:Evenementen voor De Peuk
REFRESH-INTERVAL;VALUE=DURATION:PT1H
X-Robots-Tag:noindex
X-PUBLISHED-TTL:PT1H
BEGIN:VTIMEZONE
TZID:Europe/Paris
BEGIN:DAYLIGHT
TZOFFSETFROM:+0100
TZOFFSETTO:+0200
TZNAME:CEST
DTSTART:20250330T010000
END:DAYLIGHT
BEGIN:STANDARD
TZOFFSETFROM:+0200
TZOFFSETTO:+0100
TZNAME:CET
DTSTART:20251026T010000
END:STANDARD
BEGIN:DAYLIGHT
TZOFFSETFROM:+0100
TZOFFSETTO:+0200
TZNAME:CEST
DTSTART:20260329T010000
END:DAYLIGHT
BEGIN:STANDARD
TZOFFSETFROM:+0200
TZOFFSETTO:+0100
TZNAME:CET
DTSTART:20261025T010000
END:STANDARD
BEGIN:DAYLIGHT
TZOFFSETFROM:+0100
TZOFFSETTO:+0200
TZNAME:CEST
DTSTART:20270328T010000
END:DAYLIGHT
BEGIN:STANDARD
TZOFFSETFROM:+0200
TZOFFSETTO:+0100
TZNAME:CET
DTSTART:20271031T010000
END:STANDARD
BEGIN:DAYLIGHT
TZOFFSETFROM:+0100
TZOFFSETTO:+0200
TZNAME:CEST
DTSTART:20280326T010000
END:DAYLIGHT
BEGIN:STANDARD
TZOFFSETFROM:+0200
TZOFFSETTO:+0100
TZNAME:CET
DTSTART:20281029T010000
END:STANDARD
END:VTIMEZONE
BEGIN:VEVENT
DTSTART;VALUE=DATE:20261107
DTEND;VALUE=DATE:20261109
DTSTAMP:20260421T020820
CREATED:20260413T150357Z
LAST-MODIFIED:20260413T150357Z
UID:6504-1794009600-1794182399@www.depeuk.nl
SUMMARY:Zalen niet te huur!
DESCRIPTION:
URL:https://www.depeuk.nl/home/event/zalen-niet-te-huur-6/
CATEGORIES:Niet te huur
END:VEVENT
BEGIN:VEVENT
DTSTART;TZID=Europe/Paris:20261117T190000
DTEND;TZID=Europe/Paris:20261117T220000
DTSTAMP:20260421T020820
CREATED:20251025T181808Z
LAST-MODIFIED:20260330T193225Z
UID:5995-1794942000-1794952800@www.depeuk.nl
SUMMARY:Vergadering wijkraad\, kleine zaal
DESCRIPTION:
URL:https://www.depeuk.nl/home/event/vergadering-wijkraad-kleine-zaal-4/
ATTACH;FMTTYPE=image/png:https://www.depeuk.nl/wp-content/uploads/2025/10/logo-wijkraad-valkenburg-1.png
END:VEVENT
BEGIN:VEVENT
DTSTART;VALUE=DATE:20261120
DTEND;VALUE=DATE:20261123
DTSTAMP:20260421T020820
CREATED:20260413T150439Z
LAST-MODIFIED:20260413T150439Z
UID:6506-1795132800-1795391999@www.depeuk.nl
SUMMARY:Zalen niet te huur!
DESCRIPTION:
URL:https://www.depeuk.nl/home/event/zalen-niet-te-huur-7/
CATEGORIES:Niet te huur
END:VEVENT
BEGIN:VEVENT
DTSTART;VALUE=DATE:20261121
DTEND;VALUE=DATE:20261122
DTSTAMP:20260421T020820
CREATED:20260302T200407Z
LAST-MODIFIED:20260302T200407Z
UID:6343-1795219200-1795305599@www.depeuk.nl
SUMMARY:Sinterklaas intocht
DESCRIPTION:Meer info volgt nog.
URL:https://www.depeuk.nl/home/event/sinterklaas-intocht/
END:VEVENT
BEGIN:VEVENT
DTSTART;VALUE=DATE:20261128
DTEND;VALUE=DATE:20261129
DTSTAMP:20260421T020820
CREATED:20260302T194434Z
LAST-MODIFIED:20260302T194434Z
UID:6335-1795824000-1795910399@www.depeuk.nl
SUMMARY:House of Rock
DESCRIPTION:Meer info volgt nog.
URL:https://www.depeuk.nl/home/event/house-of-rock-2/
END:VEVENT
BEGIN:VEVENT
DTSTART;VALUE=DATE:20261204
DTEND;VALUE=DATE:20261207
DTSTAMP:20260421T020820
CREATED:20260413T150610Z
LAST-MODIFIED:20260413T150610Z
UID:6508-1796342400-1796601599@www.depeuk.nl
SUMMARY:Zalen niet te huur!
DESCRIPTION:
URL:https://www.depeuk.nl/home/event/zalen-niet-te-huur-8/
CATEGORIES:Niet te huur
END:VEVENT
BEGIN:VEVENT
DTSTART;TZID=Europe/Paris:20261212T200000
DTEND;TZID=Europe/Paris:20261212T233000
DTSTAMP:20260421T020820
CREATED:20260220T142555Z
LAST-MODIFIED:20260220T142805Z
UID:6326-1797105600-1797118200@www.depeuk.nl
SUMMARY:Kerstbingo OWV
DESCRIPTION:
URL:https://www.depeuk.nl/home/event/veteranen-bijeenkomst/
END:VEVENT
BEGIN:VEVENT
DTSTART;VALUE=DATE:20261218
DTEND;VALUE=DATE:20270105
DTSTAMP:20260421T020820
CREATED:20251025T181849Z
LAST-MODIFIED:20260413T171323Z
UID:5997-1797552000-1799107199@www.depeuk.nl
SUMMARY:Kerstvakantie | gesloten
DESCRIPTION:
URL:https://www.depeuk.nl/home/event/kerstvakantie-gesloten/
CATEGORIES:Vakantie gesloten
END:VEVENT
END:VCALENDAR