BEGIN:VCALENDAR
VERSION:2.0
PRODID:-//De Peuk - ECPv6.15.17.1//NONSGML v1.0//EN
CALSCALE:GREGORIAN
METHOD:PUBLISH
X-WR-CALNAME:De Peuk
X-ORIGINAL-URL:https://www.depeuk.nl/home
X-WR-CALDESC:Evenementen voor De Peuk
REFRESH-INTERVAL;VALUE=DURATION:PT1H
X-Robots-Tag:noindex
X-PUBLISHED-TTL:PT1H
BEGIN:VTIMEZONE
TZID:Europe/Paris
BEGIN:DAYLIGHT
TZOFFSETFROM:+0100
TZOFFSETTO:+0200
TZNAME:CEST
DTSTART:20240331T010000
END:DAYLIGHT
BEGIN:STANDARD
TZOFFSETFROM:+0200
TZOFFSETTO:+0100
TZNAME:CET
DTSTART:20241027T010000
END:STANDARD
BEGIN:DAYLIGHT
TZOFFSETFROM:+0100
TZOFFSETTO:+0200
TZNAME:CEST
DTSTART:20250330T010000
END:DAYLIGHT
BEGIN:STANDARD
TZOFFSETFROM:+0200
TZOFFSETTO:+0100
TZNAME:CET
DTSTART:20251026T010000
END:STANDARD
BEGIN:DAYLIGHT
TZOFFSETFROM:+0100
TZOFFSETTO:+0200
TZNAME:CEST
DTSTART:20260329T010000
END:DAYLIGHT
BEGIN:STANDARD
TZOFFSETFROM:+0200
TZOFFSETTO:+0100
TZNAME:CET
DTSTART:20261025T010000
END:STANDARD
END:VTIMEZONE
BEGIN:VEVENT
DTSTART;VALUE=DATE:20251211
DTEND;VALUE=DATE:20251212
DTSTAMP:20260421T012127
CREATED:20251110T213059Z
LAST-MODIFIED:20251110T213059Z
UID:6080-1765411200-1765497599@www.depeuk.nl
SUMMARY:Verhuurd | grote zaal
DESCRIPTION:
URL:https://www.depeuk.nl/home/event/verhuurd-grote-zaal-4/
LOCATION:De Peuk\, Rekreatiepad 3\, Valkenburg\, Zuid Holland\, 2235CE\, Nederland
END:VEVENT
BEGIN:VEVENT
DTSTART;VALUE=DATE:20251129
DTEND;VALUE=DATE:20251130
DTSTAMP:20260421T012127
CREATED:20250918T113033Z
LAST-MODIFIED:20251124T161104Z
UID:5765-1764374400-1764460799@www.depeuk.nl
SUMMARY:Evenement House of Rock
DESCRIPTION:Tijd: 20:30 tot 01:00 uur! \nKnallende optredens van AWSM\, Refill\, Project X & The Lonesome Lads! \nVoorverkoop tickets start: zaterdag 27 september om 12:00 uur. \nDe tickets zijn verkrijgbaar bij Hoekstra Wheels in Valkenburg en Tankstation De Jong in Katwijk.
URL:https://www.depeuk.nl/home/event/house-of-rock/
LOCATION:De Peuk\, Rekreatiepad 3\, Valkenburg\, Zuid Holland\, 2235CE\, Nederland
END:VEVENT
BEGIN:VEVENT
DTSTART;VALUE=DATE:20251128
DTEND;VALUE=DATE:20251129
DTSTAMP:20260421T012127
CREATED:20251106T203604Z
LAST-MODIFIED:20251106T203604Z
UID:6046-1764288000-1764374399@www.depeuk.nl
SUMMARY:Verhuurd | kleine zaal
DESCRIPTION:
URL:https://www.depeuk.nl/home/event/verhuurd-kleine-zaal-6/
END:VEVENT
BEGIN:VEVENT
DTSTART;VALUE=DATE:20251125
DTEND;VALUE=DATE:20251126
DTSTAMP:20260421T012127
CREATED:20251110T212903Z
LAST-MODIFIED:20251110T212903Z
UID:6077-1764028800-1764115199@www.depeuk.nl
SUMMARY:Verhuurd\, grote zaal
DESCRIPTION:
URL:https://www.depeuk.nl/home/event/verhuurd-grote-zaal-3/
LOCATION:De Peuk\, Rekreatiepad 3\, Valkenburg\, Zuid Holland\, 2235CE\, Nederland
END:VEVENT
BEGIN:VEVENT
DTSTART;VALUE=DATE:20251122
DTEND;VALUE=DATE:20251123
DTSTAMP:20260421T012127
CREATED:20250408T122344Z
LAST-MODIFIED:20251016T140950Z
UID:5561-1763769600-1763855999@www.depeuk.nl
SUMMARY:Feestboek The Party 2.0
DESCRIPTION:Tijd: 20:00 tot 01:00 uur \nDe allereerste editie van Feestboek The Party was een knaller! \n\n\nDe sfeer was magisch\, de energie was ongekend en jullie waren fantastisch. Dank aan iedereen die erbij was en deze avond onvergetelijk maakte.\n\nDe kaartverkoop voor de 2de editie is nu gestart!\nWees er snel bij\, want de vorige editie was binnen een week uitverkocht.\n\n\n\nVergeet ons niet te volgen op Instragram @feestboek_theparty voor de laatste info.\n\n\n\n\nTeam Feestboek The Party
URL:https://www.depeuk.nl/home/event/feestboek-the-party-2-0/
LOCATION:De Peuk\, Rekreatiepad 3\, Valkenburg\, Zuid Holland\, 2235CE\, Nederland
CATEGORIES:Muziekevenement
END:VEVENT
BEGIN:VEVENT
DTSTART;VALUE=DATE:20251115
DTEND;VALUE=DATE:20251116
DTSTAMP:20260421T012127
CREATED:20251016T133642Z
LAST-MODIFIED:20251016T133642Z
UID:5849-1763164800-1763251199@www.depeuk.nl
SUMMARY:Verhuurd gr zaal
DESCRIPTION:
URL:https://www.depeuk.nl/home/event/verhuurd-gr-zaal-2/
END:VEVENT
BEGIN:VEVENT
DTSTART;VALUE=DATE:20251114
DTEND;VALUE=DATE:20251115
DTSTAMP:20260421T012127
CREATED:20250918T144911Z
LAST-MODIFIED:20251016T140722Z
UID:5777-1763078400-1763164799@www.depeuk.nl
SUMMARY:HOLLANDSE AVOND | 12 T/M 17 JAAR
DESCRIPTION:Van 20:00 tot 00:00 uur. \nEen gezellige Hollandse avond voor de jeugd\, met o.a. een optreden van zanger Bart Heemskerk en DJ Sjoerd. \nTicketprijs online: € 5\,- incl. 2 muntjes voor een drankje\nTicketprijs aan de deur: € 7\,- incl. 2 muntjes voor een drankje
URL:https://www.depeuk.nl/home/event/hollandse-avond-jeugd/
LOCATION:De Peuk\, Rekreatiepad 3\, Valkenburg\, Zuid Holland\, 2235CE\, Nederland
ORGANIZER;CN="De Peuk":MAILTO:secretariaat@depeuk.nl
END:VEVENT
BEGIN:VEVENT
DTSTART;TZID=Europe/Paris:20251108T100000
DTEND;TZID=Europe/Paris:20251108T130000
DTSTAMP:20260421T012127
CREATED:20251025T174455Z
LAST-MODIFIED:20251025T174455Z
UID:5932-1762596000-1762606800@www.depeuk.nl
SUMMARY:VOC koffieochtend
DESCRIPTION:
URL:https://www.depeuk.nl/home/event/voc-koffieochtend-4/
LOCATION:De Peuk\, Rekreatiepad 3\, Valkenburg\, Zuid Holland\, 2235CE\, Nederland
CATEGORIES:Veteranen
END:VEVENT
BEGIN:VEVENT
DTSTART;VALUE=DATE:20251107
DTEND;VALUE=DATE:20251108
DTSTAMP:20260421T012127
CREATED:20251016T133422Z
LAST-MODIFIED:20251025T173729Z
UID:5846-1762473600-1762559999@www.depeuk.nl
SUMMARY:Swingo
DESCRIPTION:Bingo met muziek i.p.v. cijfers!
URL:https://www.depeuk.nl/home/event/swingo-uitverkocht/
LOCATION:De Peuk\, Rekreatiepad 3\, Valkenburg\, Zuid Holland\, 2235CE\, Nederland
END:VEVENT
BEGIN:VEVENT
DTSTART;TZID=Europe/Paris:20251106T100000
DTEND;TZID=Europe/Paris:20251106T130000
DTSTAMP:20260421T012127
CREATED:20251025T174323Z
LAST-MODIFIED:20251025T174323Z
UID:5928-1762423200-1762434000@www.depeuk.nl
SUMMARY:VOC koffieochtend
DESCRIPTION:
URL:https://www.depeuk.nl/home/event/voc-koffieochtend-2/
LOCATION:De Peuk\, Rekreatiepad 3\, Valkenburg\, Zuid Holland\, 2235CE\, Nederland
CATEGORIES:Veteranen
END:VEVENT
BEGIN:VEVENT
DTSTART;TZID=Europe/Paris:20251104T100000
DTEND;TZID=Europe/Paris:20251104T130000
DTSTAMP:20260421T012127
CREATED:20251025T174114Z
LAST-MODIFIED:20251025T174114Z
UID:5925-1762250400-1762261200@www.depeuk.nl
SUMMARY:VOC koffieochtend
DESCRIPTION:
URL:https://www.depeuk.nl/home/event/voc-koffieochtend/
LOCATION:De Peuk\, Rekreatiepad 3\, Valkenburg\, Zuid Holland\, 2235CE\, Nederland
CATEGORIES:Veteranen
END:VEVENT
BEGIN:VEVENT
DTSTART;TZID=Europe/Paris:20251101T100000
DTEND;TZID=Europe/Paris:20251101T130000
DTSTAMP:20260421T012127
CREATED:20251025T174630Z
LAST-MODIFIED:20251025T174630Z
UID:5936-1761991200-1762002000@www.depeuk.nl
SUMMARY:VOC koffieochtend
DESCRIPTION:
URL:https://www.depeuk.nl/home/event/voc-koffieochtend-6/
LOCATION:De Peuk\, Rekreatiepad 3\, Valkenburg\, Zuid Holland\, 2235CE\, Nederland
CATEGORIES:Veteranen
END:VEVENT
BEGIN:VEVENT
DTSTART;VALUE=DATE:20251101
DTEND;VALUE=DATE:20251102
DTSTAMP:20260421T012127
CREATED:20251016T133133Z
LAST-MODIFIED:20251016T134233Z
UID:5841-1761955200-1762041599@www.depeuk.nl
SUMMARY:Verhuurd gr zaal
DESCRIPTION:
URL:https://www.depeuk.nl/home/event/verhuurd-gr-zaal/
CATEGORIES:Verhuurd
END:VEVENT
BEGIN:VEVENT
DTSTART;VALUE=DATE:20251031
DTEND;VALUE=DATE:20251101
DTSTAMP:20260421T012127
CREATED:20251025T172608Z
LAST-MODIFIED:20251025T172645Z
UID:5921-1761868800-1761955199@www.depeuk.nl
SUMMARY:Verhuurd\, grote zaal
DESCRIPTION:
URL:https://www.depeuk.nl/home/event/verhuurd-grote-zaal/
END:VEVENT
BEGIN:VEVENT
DTSTART;TZID=Europe/Paris:20251030T100000
DTEND;TZID=Europe/Paris:20251030T130000
DTSTAMP:20260421T012127
CREATED:20251025T174556Z
LAST-MODIFIED:20251025T174556Z
UID:5934-1761818400-1761829200@www.depeuk.nl
SUMMARY:VOC koffieochtend
DESCRIPTION:
URL:https://www.depeuk.nl/home/event/voc-koffieochtend-5/
LOCATION:De Peuk\, Rekreatiepad 3\, Valkenburg\, Zuid Holland\, 2235CE\, Nederland
CATEGORIES:Veteranen
END:VEVENT
BEGIN:VEVENT
DTSTART;TZID=Europe/Paris:20251028T100000
DTEND;TZID=Europe/Paris:20251028T130000
DTSTAMP:20260421T012127
CREATED:20251025T174420Z
LAST-MODIFIED:20251025T174420Z
UID:5930-1761645600-1761656400@www.depeuk.nl
SUMMARY:VOC koffieochtend
DESCRIPTION:
URL:https://www.depeuk.nl/home/event/voc-koffieochtend-3/
LOCATION:De Peuk\, Rekreatiepad 3\, Valkenburg\, Zuid Holland\, 2235CE\, Nederland
CATEGORIES:Veteranen
END:VEVENT
BEGIN:VEVENT
DTSTART;TZID=Europe/Paris:20251025T180000
DTEND;TZID=Europe/Paris:20251025T230000
DTSTAMP:20260421T012127
CREATED:20251016T133904Z
LAST-MODIFIED:20251025T174220Z
UID:5851-1761415200-1761433200@www.depeuk.nl
SUMMARY:Griezeltocht | JIVAK
DESCRIPTION:
URL:https://www.depeuk.nl/home/event/griezeltocht-jivak/
LOCATION:De Peuk\, Rekreatiepad 3\, Valkenburg\, Zuid Holland\, 2235CE\, Nederland
END:VEVENT
BEGIN:VEVENT
DTSTART;VALUE=DATE:20251025
DTEND;VALUE=DATE:20251026
DTSTAMP:20260421T012127
CREATED:20251025T180024Z
LAST-MODIFIED:20251025T180024Z
UID:5956-1761350400-1761436799@www.depeuk.nl
SUMMARY:Verhuurd\, kleine zaal
DESCRIPTION:
URL:https://www.depeuk.nl/home/event/verhuurd-kleine-zaal-3/
END:VEVENT
BEGIN:VEVENT
DTSTART;TZID=Europe/Paris:20251022T100000
DTEND;TZID=Europe/Paris:20251023T160000
DTSTAMP:20260421T012127
CREATED:20251016T132618Z
LAST-MODIFIED:20251016T132939Z
UID:5837-1761127200-1761235200@www.depeuk.nl
SUMMARY:LEGO dagen
DESCRIPTION:
URL:https://www.depeuk.nl/home/event/lego-dagen/
LOCATION:De Peuk\, Rekreatiepad 3\, Valkenburg\, Zuid Holland\, 2235CE\, Nederland
END:VEVENT
BEGIN:VEVENT
DTSTART;VALUE=DATE:20251018
DTEND;VALUE=DATE:20251019
DTSTAMP:20260421T012127
CREATED:20251016T132416Z
LAST-MODIFIED:20251016T133229Z
UID:5835-1760745600-1760831999@www.depeuk.nl
SUMMARY:verhuurd kl zaal
DESCRIPTION:
URL:https://www.depeuk.nl/home/event/verhuurd-kl-zaal/
END:VEVENT
BEGIN:VEVENT
DTSTART;TZID=Europe/Paris:20251016T203000
DTEND;TZID=Europe/Paris:20251016T230000
DTSTAMP:20260421T012127
CREATED:20251016T132010Z
LAST-MODIFIED:20251016T132010Z
UID:5830-1760646600-1760655600@www.depeuk.nl
SUMMARY:Limes borrel | 20:30 - 23:00 uur
DESCRIPTION:Van\, voor en door Valkenburg – een avond vol ontmoeting \nOp donderdag 16 oktober organiseert de Bedrijvenvereniging Valkenburg een bijzondere avond in De Peuk: een combinatie van onze jaarlijkse Algemene Ledenvergadering en de allereerste editie van de Limes Borrel. Hoewel beide onderdelen op dezelfde locatie plaatsvinden\, richten ze zich op verschillende doelgroepen en vinden ze in opeenvolging plaats. Hieronder leggen we precies uit hoe de avond eruitziet\, en voor wie welk deel bedoeld is. \n 19.30 uur – Algemene Ledenvergadering (besloten) \nDe avond start om 19.30 uur met de Algemene Ledenvergadering van de Bedrijvenvereniging Valkenburg. Deze bijeenkomst is uitsluitend toegankelijk voor leden van de vereniging. Tijdens deze vergadering bespreken we de inzet van het Ondernemersfonds\, worden gezamenlijke plannen toegelicht en stemmen we over voorstellen die impact hebben op het ondernemersklimaat in Valkenburg. \nBent u ondernemer met een bedrijf of vastgoed in Valkenburg en nog geen lid\, maar overweegt u zich aan te sluiten bij de vereniging? Dan bent u uiteraard van harte welkom om contact met ons op te nemen – lidmaatschap biedt toegang tot deze vergadering én meerwaarde voor uw lokale netwerk. \n 20.30 uur – Limes Borrel (voor alle ondernemers met binding met Valkenburg) \nVanaf 20.30 uur openen we de deuren voor de Limes Borrel – een nieuw initiatief\, speciaal voor ondernemers met een hart voor Valkenburg. Of u nu een bedrijf runt in het dorp\, vastgoed bezit\, of elders onderneemt maar uw roots hier liggen: deze avond is van\, voor en door Valkenburg. \nDe Limes Borrel biedt ruimte voor ontmoeting\, verbinding en inspiratie. In een informele setting brengt het ondernemers uit verschillende sectoren samen\, met als doel elkaar te leren kennen\, ideeën uit te wisselen en mogelijk nieuwe samenwerkingen te laten ontstaan. Bij aankomst ligt er een naamkaartje voor u klaar\, en kunt u op een kaartje aangeven wat u zoekt\, biedt of graag wilt delen – zo maken we kennismaken nog makkelijker. \nAanmelden \nAanmelden voor de Limes Borrel is verplicht en kan eenvoudig via de QR-code op de uitnodiging of via het formulier op deze website. Bent u lid van de Bedrijvenvereniging? Dan kunt u zich bij hetzelfde formulier ook aanmelden voor de ledenvergadering. \nLet op: de ledenvergadering is besloten en alleen toegankelijk voor leden. De ondernemersborrel is openbaar\, maar wél gericht op ondernemers met een duidelijke binding met Valkenburg. \nSamen maken we Valkenburg sterker \nMet deze avond zetten we niet alleen de lijnen uit voor het komende jaar\, maar leggen we ook nieuwe verbindingen tussen ondernemers uit en rondom Valkenburg. We hopen u op 16 oktober te mogen verwelkomen – eerst als lid\, daarna als ondernemer\, maar altijd als betrokken deelnemer aan een sterker Valkenburg. \nMeldt u hier aan: Mailchimp Survey \n 
URL:https://www.depeuk.nl/home/event/limes-borrel-2030-2300-uur/
LOCATION:De Peuk\, Rekreatiepad 3\, Valkenburg\, Zuid Holland\, 2235CE\, Nederland
END:VEVENT
END:VCALENDAR