BEGIN:VCALENDAR
VERSION:2.0
PRODID:-//De Peuk - ECPv6.15.17.1//NONSGML v1.0//EN
CALSCALE:GREGORIAN
METHOD:PUBLISH
X-ORIGINAL-URL:https://www.depeuk.nl/home
X-WR-CALDESC:Evenementen voor De Peuk
REFRESH-INTERVAL;VALUE=DURATION:PT1H
X-Robots-Tag:noindex
X-PUBLISHED-TTL:PT1H
BEGIN:VTIMEZONE
TZID:Europe/Paris
BEGIN:DAYLIGHT
TZOFFSETFROM:+0100
TZOFFSETTO:+0200
TZNAME:CEST
DTSTART:20250330T010000
END:DAYLIGHT
BEGIN:STANDARD
TZOFFSETFROM:+0200
TZOFFSETTO:+0100
TZNAME:CET
DTSTART:20251026T010000
END:STANDARD
BEGIN:DAYLIGHT
TZOFFSETFROM:+0100
TZOFFSETTO:+0200
TZNAME:CEST
DTSTART:20260329T010000
END:DAYLIGHT
BEGIN:STANDARD
TZOFFSETFROM:+0200
TZOFFSETTO:+0100
TZNAME:CET
DTSTART:20261025T010000
END:STANDARD
BEGIN:DAYLIGHT
TZOFFSETFROM:+0100
TZOFFSETTO:+0200
TZNAME:CEST
DTSTART:20270328T010000
END:DAYLIGHT
BEGIN:STANDARD
TZOFFSETFROM:+0200
TZOFFSETTO:+0100
TZNAME:CET
DTSTART:20271031T010000
END:STANDARD
END:VTIMEZONE
BEGIN:VEVENT
DTSTART;VALUE=DATE:20260206
DTEND;VALUE=DATE:20260207
DTSTAMP:20260420T130230
CREATED:20260106T121424Z
LAST-MODIFIED:20260106T121424Z
UID:6215-1770336000-1770422399@www.depeuk.nl
SUMMARY:Verhuurd | Kleine zaal
DESCRIPTION:
URL:https://www.depeuk.nl/home/event/verhuurd-kleine-zaal-11/
END:VEVENT
BEGIN:VEVENT
DTSTART;VALUE=DATE:20260207
DTEND;VALUE=DATE:20260208
DTSTAMP:20260420T130230
CREATED:20251110T182854Z
LAST-MODIFIED:20251110T182854Z
UID:6058-1770422400-1770508799@www.depeuk.nl
SUMMARY:Verhuurd\, kleine zaal
DESCRIPTION:
URL:https://www.depeuk.nl/home/event/verhuurd-kleine-zaal-7/
END:VEVENT
BEGIN:VEVENT
DTSTART;VALUE=DATE:20260213
DTEND;VALUE=DATE:20260214
DTSTAMP:20260420T130230
CREATED:20251111T182959Z
LAST-MODIFIED:20251212T174429Z
UID:6084-1770940800-1771027199@www.depeuk.nl
SUMMARY:Verhuurd | grote zaal
DESCRIPTION:
URL:https://www.depeuk.nl/home/event/verhuurd-kleine-zaal-8/
CATEGORIES:Verhuurd
END:VEVENT
BEGIN:VEVENT
DTSTART;VALUE=DATE:20260214
DTEND;VALUE=DATE:20260215
DTSTAMP:20260420T130230
CREATED:20251124T162750Z
LAST-MODIFIED:20260210T191441Z
UID:6151-1771027200-1771113599@www.depeuk.nl
SUMMARY:Verhuurd | kleine zaal
DESCRIPTION:
URL:https://www.depeuk.nl/home/event/onder-voorbehoud-kleine-zaal-3/
END:VEVENT
BEGIN:VEVENT
DTSTART;VALUE=DATE:20260215
DTEND;VALUE=DATE:20260216
DTSTAMP:20260420T130230
CREATED:20260119T180614Z
LAST-MODIFIED:20260119T180614Z
UID:6245-1771113600-1771199999@www.depeuk.nl
SUMMARY:Verhuurd | Kleine Zaal
DESCRIPTION:
URL:https://www.depeuk.nl/home/event/verhuurd-kleine-zaal-13/
END:VEVENT
BEGIN:VEVENT
DTSTART;TZID=Europe/Paris:20260221T200000
DTEND;TZID=Europe/Paris:20260222T010000
DTSTAMP:20260420T130230
CREATED:20260113T194830Z
LAST-MODIFIED:20260220T140935Z
UID:6231-1771704000-1771722000@www.depeuk.nl
SUMMARY:21 februari | Disco Dance Classics
DESCRIPTION:Na het succes van de 70s Party gaan we nóg een stap verder \n\n\nEen avond vol legendarische disco classics\, met The B Machine live on stage en DJ Arie van Rooyen achter de draaitafels.\n\n\n Mis ’t niet – tickets online voor maar €10\,-\n\nScore hier je tickets: https://store.ticketing.cm.com/DiscoDanceClassics2026
URL:https://www.depeuk.nl/home/event/21-februari-disco-dance-classics/
LOCATION:De Peuk\, Rekreatiepad 3\, Valkenburg\, Zuid Holland\, 2235CE\, Nederland
CATEGORIES:Muziekevenement
ORGANIZER;CN="De Peuk":MAILTO:secretariaat@depeuk.nl
END:VEVENT
BEGIN:VEVENT
DTSTART;TZID=Europe/Paris:20260227T160000
DTEND;TZID=Europe/Paris:20260227T200000
DTSTAMP:20260420T130230
CREATED:20260119T184854Z
LAST-MODIFIED:20260220T132555Z
UID:6249-1772208000-1772222400@www.depeuk.nl
SUMMARY:50+ pub
DESCRIPTION:
URL:https://www.depeuk.nl/home/event/50-pub-kleine-zaal-ovb/
LOCATION:De Peuk\, Rekreatiepad 3\, Valkenburg\, Zuid Holland\, 2235CE\, Nederland
END:VEVENT
BEGIN:VEVENT
DTSTART;VALUE=DATE:20260228
DTEND;VALUE=DATE:20260301
DTSTAMP:20260420T130230
CREATED:20251025T180214Z
LAST-MODIFIED:20260220T132709Z
UID:5960-1772236800-1772323199@www.depeuk.nl
SUMMARY:Verhuurd | Kleine Zaal
DESCRIPTION:
URL:https://www.depeuk.nl/home/event/verhuurd-onder-voorbehoud/
CATEGORIES:Verhuurd
END:VEVENT
END:VCALENDAR